BEGIN:VCALENDAR
VERSION:2.0
PRODID:-//pretix//veranstaltung.app//
BEGIN:VTIMEZONE
TZID:Europe/Berlin
BEGIN:STANDARD
DTSTART:20001029T040000
RRULE:FREQ=YEARLY;BYDAY=-1SU;BYMONTH=10
TZNAME:CET
TZOFFSETFROM:+0200
TZOFFSETTO:+0100
END:STANDARD
BEGIN:DAYLIGHT
DTSTART:20000326T030000
RRULE:FREQ=YEARLY;BYDAY=-1SU;BYMONTH=3
TZNAME:CEST
TZOFFSETFROM:+0100
TZOFFSETTO:+0200
END:DAYLIGHT
END:VTIMEZONE
BEGIN:VEVENT
UID:pretix-elkhhgs-raum-0@veranstaltung.app
DTSTART;TZID=Europe/Berlin:20241201T000100
DTEND;TZID=Europe/Berlin:20261230T000000
DESCRIPTION:Tickets: https://veranstaltung.app/elkhhgs/raum/\nVeranstalter:
  Evangelisch-Lutherische Kirchengemeinde Großhansdorf-Schmalenbeck
DTSTAMP:20260424T174019Z
LOCATION:Ev.-Luth. Kirchengemeinde Großhansdorf-Schmalenbeck\, Alte Landst
 r. 20\, 22927 Großhansdorf
SUMMARY:Raum für Unterstützung
END:VEVENT
END:VCALENDAR
