BEGIN:VCALENDAR
VERSION:2.0
PRODID:-//pretix//veranstaltung.app//
BEGIN:VTIMEZONE
TZID:Europe/Berlin
BEGIN:STANDARD
DTSTART:20001029T040000
RRULE:FREQ=YEARLY;BYDAY=-1SU;BYMONTH=10
TZNAME:CET
TZOFFSETFROM:+0200
TZOFFSETTO:+0100
END:STANDARD
BEGIN:DAYLIGHT
DTSTART:20000326T030000
RRULE:FREQ=YEARLY;BYDAY=-1SU;BYMONTH=3
TZNAME:CEST
TZOFFSETFROM:+0100
TZOFFSETTO:+0200
END:DAYLIGHT
END:VTIMEZONE
BEGIN:VEVENT
UID:pretix-elkhhgs-buecherfruehling-0@veranstaltung.app
DTSTART;TZID=Europe/Berlin:20260318T190000
DTEND;TZID=Europe/Berlin:20260318T203000
DESCRIPTION:Tickets: https://veranstaltung.app/elkhhgs/buecherfruehling/\nE
 inlass: 18.03.2026 18:30\nVeranstalter: Evangelisch-Lutherische Kirchengem
 einde Großhansdorf-Schmalenbeck
DTSTAMP:20260424T225513Z
LOCATION:Auferstehungskirche Großhansdorf-Schmalenbeck
SUMMARY:Bücher-Frühling mit Annemarie Stoltenberg
END:VEVENT
END:VCALENDAR
