BEGIN:VCALENDAR
VERSION:2.0
PRODID:-//pretix//veranstaltung.app//
BEGIN:VTIMEZONE
TZID:Europe/Berlin
BEGIN:STANDARD
DTSTART:20001029T040000
RRULE:FREQ=YEARLY;BYDAY=-1SU;BYMONTH=10
TZNAME:CET
TZOFFSETFROM:+0200
TZOFFSETTO:+0100
END:STANDARD
BEGIN:DAYLIGHT
DTSTART:20000326T030000
RRULE:FREQ=YEARLY;BYDAY=-1SU;BYMONTH=3
TZNAME:CEST
TZOFFSETFROM:+0100
TZOFFSETTO:+0200
END:DAYLIGHT
END:VTIMEZONE
BEGIN:VEVENT
UID:pretix-elkhhgs-367-0@veranstaltung.app
DTSTART;TZID=Europe/Berlin:20260321T180000
DTEND;TZID=Europe/Berlin:20260321T193000
DESCRIPTION:Tickets: https://veranstaltung.app/elkhhgs/367/\nEinlass: 21.03
 .2026 17:30\nVeranstalter: Evangelisch-Lutherische Kirchengemeinde Großha
 nsdorf-Schmalenbeck
DTSTAMP:20260424T225437Z
LOCATION:Ev.-Luth. Kirchengemeinde Großhansdorf-Schmalenbeck\, Alte Landst
 r. 20\, 22927 Großhansdorf
SUMMARY:367. Schmalenbecker Abendmusik - Konzert zum 100. Geburtstag von Er
 nst-Ulrich von Kameke
END:VEVENT
END:VCALENDAR
