BEGIN:VCALENDAR
VERSION:2.0
PRODID:-//pretix//veranstaltung.app//
BEGIN:VTIMEZONE
TZID:Europe/Berlin
BEGIN:STANDARD
DTSTART:20001029T040000
RRULE:FREQ=YEARLY;BYDAY=-1SU;BYMONTH=10
TZNAME:CET
TZOFFSETFROM:+0200
TZOFFSETTO:+0100
END:STANDARD
BEGIN:DAYLIGHT
DTSTART:20000326T030000
RRULE:FREQ=YEARLY;BYDAY=-1SU;BYMONTH=3
TZNAME:CEST
TZOFFSETFROM:+0100
TZOFFSETTO:+0200
END:DAYLIGHT
END:VTIMEZONE
BEGIN:VEVENT
UID:pretix-elkhhgs-360-0@veranstaltung.app
DTSTART;TZID=Europe/Berlin:20250621T180000
DTEND;TZID=Europe/Berlin:20250621T210000
DESCRIPTION:Tickets: https://veranstaltung.app/elkhhgs/360/\nEinlass: 21.06
 .2025 17:30\nVeranstalter: Evangelisch-Lutherische Kirchengemeinde Großha
 nsdorf-Schmalenbeck
DTSTAMP:20260424T155915Z
LOCATION:Ev.-Luth. Kirchengemeinde Großhansdorf-Schmalenbeck\, Alte Landst
 r. 20\, 22927 Großhansdorf
SUMMARY:360. Schmalenbecker Abendmusik - Duo Asya Fateyeva & Bo Wiget
END:VEVENT
END:VCALENDAR
