BEGIN:VCALENDAR
VERSION:2.0
PRODID:-//pretix//veranstaltung.app//
BEGIN:VTIMEZONE
TZID:Europe/Berlin
BEGIN:STANDARD
DTSTART:20001029T040000
RRULE:FREQ=YEARLY;BYDAY=-1SU;BYMONTH=10
TZNAME:CET
TZOFFSETFROM:+0200
TZOFFSETTO:+0100
END:STANDARD
BEGIN:DAYLIGHT
DTSTART:20000326T030000
RRULE:FREQ=YEARLY;BYDAY=-1SU;BYMONTH=3
TZNAME:CEST
TZOFFSETFROM:+0100
TZOFFSETTO:+0200
END:DAYLIGHT
END:VTIMEZONE
BEGIN:VEVENT
UID:pretix-elkhheb-MP131225-0@veranstaltung.app
DTSTART;TZID=Europe/Berlin:20251213T180000
DTEND;TZID=Europe/Berlin:20251213T190000
DESCRIPTION:Tickets: https://veranstaltung.app/elkhheb/MP131225/\nEinlass: 
 13.12.2025 17:30\nVeranstalter: Evangelisch-Lutherische Kirchengemeinde Ei
 msbüttel
DTSTAMP:20260422T090002Z
LOCATION:Christuskirche Hamburg-Eimsbüttel\,\, Bei der Christuskirche 2\, 
 20259 Hamburg
SUMMARY:Eimsbütteler Kantorei und Kammerorchester - Johann Sebastian Bach:
  'Ärgre dich\, o Seele\, nicht' (BWV 186a) und 'Nun komm\, der Heiden Hei
 land' (BWV 62)
END:VEVENT
END:VCALENDAR
